BEGIN:VCALENDAR
VERSION:2.0
PRODID:-//Csepel Nyugdíjas Közösségi Ház - ECPv5.16.4//NONSGML v1.0//EN
CALSCALE:GREGORIAN
METHOD:PUBLISH
X-WR-CALNAME:Csepel Nyugdíjas Közösségi Ház
X-ORIGINAL-URL:https://www.csepelivaroskep.hu/nyugdijashaz
X-WR-CALDESC:Events for Csepel Nyugdíjas Közösségi Ház
BEGIN:VTIMEZONE
TZID:UTC
BEGIN:STANDARD
TZOFFSETFROM:+0000
TZOFFSETTO:+0000
TZNAME:UTC
DTSTART:20230101T000000
END:STANDARD
END:VTIMEZONE
BEGIN:VEVENT
DTSTART;TZID=UTC:20230215T143000
DTEND;TZID=UTC:20230215T160000
DTSTAMP:20260423T085042
CREATED:20230127T123851Z
LAST-MODIFIED:20230127T123851Z
UID:644-1676471400-1676476800@www.csepelivaroskep.hu
SUMMARY:Hollósy Simon a nagy festőpedagógus
DESCRIPTION:Előadó: Kállay Endre gépészmérnök\, költő
URL:https://www.csepelivaroskep.hu/nyugdijashaz/programok/hollosy-simon-a-nagy-festopedagogus/
LOCATION:Rákóczi Kert – Családok Parkja\, 1212 Rákóczi tér 34.\, Budapest\, Magyarország
CATEGORIES:Csepeli Nyugdíjas Közösségi Ház esemény,ismeretterjesztés
END:VEVENT
END:VCALENDAR