BEGIN:VCALENDAR
VERSION:2.0
PRODID:-//Csepel Nyugdíjas Közösségi Ház - ECPv5.16.4//NONSGML v1.0//EN
CALSCALE:GREGORIAN
METHOD:PUBLISH
X-WR-CALNAME:Csepel Nyugdíjas Közösségi Ház
X-ORIGINAL-URL:https://www.csepelivaroskep.hu/nyugdijashaz
X-WR-CALDESC:Events for Csepel Nyugdíjas Közösségi Ház
BEGIN:VTIMEZONE
TZID:UTC
BEGIN:STANDARD
TZOFFSETFROM:+0000
TZOFFSETTO:+0000
TZNAME:UTC
DTSTART:20230101T000000
END:STANDARD
END:VTIMEZONE
BEGIN:VEVENT
DTSTART;TZID=UTC:20230112T143000
DTEND;TZID=UTC:20230112T160000
DTSTAMP:20260423T130826
CREATED:20221215T145111Z
LAST-MODIFIED:20221215T145111Z
UID:634-1673533800-1673539200@www.csepelivaroskep.hu
SUMMARY:Izraeli nagykörút 2. rész
DESCRIPTION:Előadó: Mikó Imre aranydiplomás építészmérnök\, okleveles közgazdász
URL:https://www.csepelivaroskep.hu/nyugdijashaz/programok/izraeli-nagykorut-2-resz/
LOCATION:Rákóczi Kert – Családok Parkja\, 1212 Rákóczi tér 34.\, Budapest\, Magyarország
CATEGORIES:Csepeli Nyugdíjas Közösségi Ház esemény,Zenei- irodalmi programok
END:VEVENT
END:VCALENDAR