BEGIN:VCALENDAR
VERSION:2.0
PRODID:-//Csepel Nyugdíjas Közösségi Ház - ECPv5.16.4//NONSGML v1.0//EN
CALSCALE:GREGORIAN
METHOD:PUBLISH
X-WR-CALNAME:Csepel Nyugdíjas Közösségi Ház
X-ORIGINAL-URL:https://www.csepelivaroskep.hu/nyugdijashaz
X-WR-CALDESC:Events for Csepel Nyugdíjas Közösségi Ház
BEGIN:VTIMEZONE
TZID:UTC
BEGIN:STANDARD
TZOFFSETFROM:+0000
TZOFFSETTO:+0000
TZNAME:UTC
DTSTART:20230101T000000
END:STANDARD
END:VTIMEZONE
BEGIN:VEVENT
DTSTART;TZID=UTC:20230223T143000
DTEND;TZID=UTC:20230223T160000
DTSTAMP:20260423T130954
CREATED:20230131T120151Z
LAST-MODIFIED:20230131T120231Z
UID:655-1677162600-1677168000@www.csepelivaroskep.hu
SUMMARY:Ókori görög kultúrkör emlékei és hatása az újkorra
DESCRIPTION:Előadó: Szabó László aranydiplomás építészmérnök
URL:https://www.csepelivaroskep.hu/nyugdijashaz/programok/okori-gorog-kulturkor-emlekei-es-hatasa-az-ujkorra/
LOCATION:Rákóczi Kert – Családok Parkja\, 1212 Rákóczi tér 34.\, Budapest\, Magyarország
CATEGORIES:Csepeli Nyugdíjas Közösségi Ház esemény,ismeretterjesztés,Úti beszámoló
END:VEVENT
END:VCALENDAR