BEGIN:VCALENDAR
VERSION:2.0
PRODID:-//Csepel Nyugdíjas Közösségi Ház - ECPv5.16.4//NONSGML v1.0//EN
CALSCALE:GREGORIAN
METHOD:PUBLISH
X-WR-CALNAME:Csepel Nyugdíjas Közösségi Ház
X-ORIGINAL-URL:https://www.csepelivaroskep.hu/nyugdijashaz
X-WR-CALDESC:Events for Csepel Nyugdíjas Közösségi Ház
BEGIN:VTIMEZONE
TZID:UTC
BEGIN:STANDARD
TZOFFSETFROM:+0000
TZOFFSETTO:+0000
TZNAME:UTC
DTSTART:20230101T000000
END:STANDARD
END:VTIMEZONE
BEGIN:VEVENT
DTSTART;TZID=UTC:20230222T143000
DTEND;TZID=UTC:20230222T160000
DTSTAMP:20260423T113617
CREATED:20230131T114918Z
LAST-MODIFIED:20230131T114918Z
UID:649-1677076200-1677081600@www.csepelivaroskep.hu
SUMMARY:Örökzöld dallamok
DESCRIPTION:Előadó: Zelinka Tamás zenetörténész
URL:https://www.csepelivaroskep.hu/nyugdijashaz/programok/orokzold-dallamok/
LOCATION:Rákóczi Kert – Családok Parkja\, 1212 Rákóczi tér 34.\, Budapest\, Magyarország
CATEGORIES:Csepeli Nyugdíjas Közösségi Ház esemény,Zenei- irodalmi programok
END:VEVENT
END:VCALENDAR