BEGIN:VCALENDAR
VERSION:2.0
PRODID:-//Csepel Nyugdíjas Közösségi Ház - ECPv5.16.4//NONSGML v1.0//EN
CALSCALE:GREGORIAN
METHOD:PUBLISH
X-WR-CALNAME:Csepel Nyugdíjas Közösségi Ház
X-ORIGINAL-URL:https://www.csepelivaroskep.hu/nyugdijashaz
X-WR-CALDESC:Events for Csepel Nyugdíjas Közösségi Ház
BEGIN:VTIMEZONE
TZID:UTC
BEGIN:STANDARD
TZOFFSETFROM:+0000
TZOFFSETTO:+0000
TZNAME:UTC
DTSTART:20230101T000000
END:STANDARD
END:VTIMEZONE
BEGIN:VEVENT
DTSTART;TZID=UTC:20230217T140000
DTEND;TZID=UTC:20230217T153000
DTSTAMP:20260423T100724
CREATED:20230127T153227Z
LAST-MODIFIED:20230127T153227Z
UID:646-1676642400-1676647800@www.csepelivaroskep.hu
SUMMARY:Péter Anna és barátai -zenés műsor
DESCRIPTION:
URL:https://www.csepelivaroskep.hu/nyugdijashaz/programok/peter-anna-es-baratai-zenes-musor/
LOCATION:Rákóczi Kert – Családok Parkja\, 1212 Rákóczi tér 34.\, Budapest\, Magyarország
CATEGORIES:Csepeli Nyugdíjas Közösségi Ház esemény,Zenei- irodalmi programok
END:VEVENT
END:VCALENDAR