BEGIN:VCALENDAR
VERSION:2.0
PRODID:-//Csepel Nyugdíjas Közösségi Ház - ECPv5.16.4//NONSGML v1.0//EN
CALSCALE:GREGORIAN
METHOD:PUBLISH
X-WR-CALNAME:Csepel Nyugdíjas Közösségi Ház
X-ORIGINAL-URL:https://www.csepelivaroskep.hu/nyugdijashaz
X-WR-CALDESC:Events for Csepel Nyugdíjas Közösségi Ház
BEGIN:VTIMEZONE
TZID:UTC
BEGIN:STANDARD
TZOFFSETFROM:+0000
TZOFFSETTO:+0000
TZNAME:UTC
DTSTART:20250101T000000
END:STANDARD
END:VTIMEZONE
BEGIN:VEVENT
DTSTART;TZID=UTC:20250612T150000
DTEND;TZID=UTC:20250612T160000
DTSTAMP:20260421T144414
CREATED:20250626T133956Z
LAST-MODIFIED:20250626T134100Z
UID:946-1749740400-1749744000@www.csepelivaroskep.hu
SUMMARY:Romániai nagykörútjaim 3. rész
DESCRIPTION:Előadó: Mikó Imre aranydiplomás építészmérnök\, okleveles közgazdász \nAz előadás filmvetítéssel egybekötött.
URL:https://www.csepelivaroskep.hu/nyugdijashaz/programok/romaniai-nagykorutjaim-3-resz/
LOCATION:Csepeli Nyugdíjas Közösségi Ház\, Kossuth Lajos utca 115.\, Budapest\, 1214\, Magyarország
CATEGORIES:Csepeli Nyugdíjas Közösségi Ház esemény,ismeretterjesztés,Úti beszámoló
END:VEVENT
END:VCALENDAR