BEGIN:VCALENDAR
VERSION:2.0
PRODID:-//Csepel Nyugdíjas Közösségi Ház - ECPv5.16.4//NONSGML v1.0//EN
CALSCALE:GREGORIAN
METHOD:PUBLISH
X-WR-CALNAME:Csepel Nyugdíjas Közösségi Ház
X-ORIGINAL-URL:https://www.csepelivaroskep.hu/nyugdijashaz
X-WR-CALDESC:Events for Csepel Nyugdíjas Közösségi Ház
BEGIN:VTIMEZONE
TZID:UTC
BEGIN:STANDARD
TZOFFSETFROM:+0000
TZOFFSETTO:+0000
TZNAME:UTC
DTSTART:20230101T000000
END:STANDARD
END:VTIMEZONE
BEGIN:VEVENT
DTSTART;TZID=UTC:20230118T143000
DTEND;TZID=UTC:20230118T160000
DTSTAMP:20260423T101120
CREATED:20221215T141342Z
LAST-MODIFIED:20221215T141342Z
UID:628-1674052200-1674057600@www.csepelivaroskep.hu
SUMMARY:Újévi köszöntő és egyéb malacságok
DESCRIPTION:Előadó: Kállay Endre gépészmérnök\, költő
URL:https://www.csepelivaroskep.hu/nyugdijashaz/programok/ujevi-koszonto-es-egyeb-malacsagok/
LOCATION:Rákóczi Kert – Családok Parkja\, 1212 Rákóczi tér 34.\, Budapest\, Magyarország
CATEGORIES:Csepeli Nyugdíjas Közösségi Ház esemény,Zenei- irodalmi programok
END:VEVENT
END:VCALENDAR