BEGIN:VCALENDAR
VERSION:2.0
PRODID:-//Csepel Nyugdíjas Közösségi Ház - ECPv5.16.4//NONSGML v1.0//EN
CALSCALE:GREGORIAN
METHOD:PUBLISH
X-WR-CALNAME:Csepel Nyugdíjas Közösségi Ház
X-ORIGINAL-URL:https://www.csepelivaroskep.hu/nyugdijashaz
X-WR-CALDESC:Events for Csepel Nyugdíjas Közösségi Ház
BEGIN:VTIMEZONE
TZID:UTC
BEGIN:STANDARD
TZOFFSETFROM:+0000
TZOFFSETTO:+0000
TZNAME:UTC
DTSTART:20250101T000000
END:STANDARD
END:VTIMEZONE
BEGIN:VEVENT
DTSTART;TZID=UTC:20250627T150000
DTEND;TZID=UTC:20250627T160000
DTSTAMP:20260421T155525
CREATED:20250626T133446Z
LAST-MODIFIED:20250626T133553Z
UID:944-1751036400-1751040000@www.csepelivaroskep.hu
SUMMARY:Varázslatos klasszikus zene
DESCRIPTION:Kerek Erzsébet zongoraművész szólókoncertje
URL:https://www.csepelivaroskep.hu/nyugdijashaz/programok/varazslatos-klasszikus-zene-37/
LOCATION:Csepeli Nyugdíjas Közösségi Ház\, Kossuth Lajos utca 115.\, Budapest\, 1214\, Magyarország
CATEGORIES:Csepeli Nyugdíjas Közösségi Ház esemény,Zenei- irodalmi programok
END:VEVENT
END:VCALENDAR