BEGIN:VCALENDAR
VERSION:2.0
PRODID:-//Csepel Nyugdíjas Közösségi Ház - ECPv5.16.4//NONSGML v1.0//EN
CALSCALE:GREGORIAN
METHOD:PUBLISH
X-WR-CALNAME:Csepel Nyugdíjas Közösségi Ház
X-ORIGINAL-URL:https://www.csepelivaroskep.hu/nyugdijashaz
X-WR-CALDESC:Events for Csepel Nyugdíjas Közösségi Ház
BEGIN:VTIMEZONE
TZID:UTC
BEGIN:STANDARD
TZOFFSETFROM:+0000
TZOFFSETTO:+0000
TZNAME:UTC
DTSTART:20250101T000000
END:STANDARD
END:VTIMEZONE
BEGIN:VEVENT
DTSTART;TZID=UTC:20251003T150000
DTEND;TZID=UTC:20251003T160000
DTSTAMP:20260421T142842
CREATED:20251017T122626Z
LAST-MODIFIED:20251017T122724Z
UID:949-1759503600-1759507200@www.csepelivaroskep.hu
SUMMARY:Zelinka Tamás kedvenc zeneművei
DESCRIPTION:Ea.: Zelinka Tamás zenetörténész
URL:https://www.csepelivaroskep.hu/nyugdijashaz/programok/zelinka-tamas-kedvenc-zenemuvei/
LOCATION:Csepeli Nyugdíjas Közösségi Ház\, Kossuth Lajos utca 115.\, Budapest\, 1214\, Magyarország
CATEGORIES:Csepeli Nyugdíjas Közösségi Ház esemény,ismeretterjesztés,Zenei- irodalmi programok
END:VEVENT
END:VCALENDAR