BEGIN:VCALENDAR
VERSION:2.0
PRODID:-//Csepeli Városkép - ECPv5.16.4//NONSGML v1.0//EN
CALSCALE:GREGORIAN
METHOD:PUBLISH
X-WR-CALNAME:Csepeli Városkép
X-ORIGINAL-URL:https://www.csepelivaroskep.hu
X-WR-CALDESC:Events for Csepeli Városkép
BEGIN:VTIMEZONE
TZID:UTC
BEGIN:STANDARD
TZOFFSETFROM:+0000
TZOFFSETTO:+0000
TZNAME:UTC
DTSTART:20220101T000000
END:STANDARD
END:VTIMEZONE
BEGIN:VEVENT
DTSTART;TZID=UTC:20221102T080000
DTEND;TZID=UTC:20230131T170000
DTSTAMP:20260421T023248
CREATED:20221102T110124Z
LAST-MODIFIED:20221102T174841Z
UID:100052-1667376000-1675184400@www.csepelivaroskep.hu
SUMMARY:Művelődési házunk zárva
DESCRIPTION:
URL:https://www.csepelivaroskep.hu/programok/muvelodesi-hazunk-zarva/
LOCATION:Radnóti Miklós Művelődési Ház\, Vénusz utca 2.\, Budapest\, 1214\, Magyarország
CATEGORIES:Radnóti Események
END:VEVENT
BEGIN:VEVENT
DTSTART;TZID=UTC:20221210T150000
DTEND;TZID=UTC:20221210T180000
DTSTAMP:20260421T023248
CREATED:20221207T093941Z
LAST-MODIFIED:20221210T184330Z
UID:103584-1670684400-1670695200@www.csepelivaroskep.hu
SUMMARY:Luca-napi családi Táncház
DESCRIPTION:
URL:https://www.csepelivaroskep.hu/programok/luca-napi-csaladi-tanchaz/
ATTACH;FMTTYPE=image/jpeg:https://www.csepelivaroskep.hu/wp-content/uploads/2022/12/plakat_luca_napi_tanchaz-uO2uZ2.tmp_.jpg
END:VEVENT
END:VCALENDAR