BEGIN:VCALENDAR
VERSION:2.0
PRODID:-//Csepeli Városkép - ECPv5.16.4//NONSGML v1.0//EN
CALSCALE:GREGORIAN
METHOD:PUBLISH
X-WR-CALNAME:Csepeli Városkép
X-ORIGINAL-URL:https://www.csepelivaroskep.hu
X-WR-CALDESC:Events for Csepeli Városkép
BEGIN:VTIMEZONE
TZID:UTC
BEGIN:STANDARD
TZOFFSETFROM:+0000
TZOFFSETTO:+0000
TZNAME:UTC
DTSTART:20210101T000000
END:STANDARD
END:VTIMEZONE
BEGIN:VEVENT
DTSTART;TZID=UTC:20210712T080000
DTEND;TZID=UTC:20210716T170000
DTSTAMP:20260424T072722
CREATED:20210610T150207Z
LAST-MODIFIED:20210712T201705Z
UID:36637-1626076800-1626454800@www.csepelivaroskep.hu
SUMMARY:Csillag tábor
DESCRIPTION:
URL:https://www.csepelivaroskep.hu/programok/csillag-tabor-2/
LOCATION:Radnóti Miklós Művelődési Ház\, Vénusz utca 2.\, Budapest\, 1214\, Magyarország
CATEGORIES:Radnóti Események
ATTACH;FMTTYPE=image/jpeg:https://www.csepelivaroskep.hu/wp-content/uploads/2021/06/csillagtabor_A3-page-001-awLzUh.tmp_.jpg
END:VEVENT
END:VCALENDAR