BEGIN:VCALENDAR
VERSION:2.0
PRODID:-//Csepeli Városkép - ECPv5.16.4//NONSGML v1.0//EN
CALSCALE:GREGORIAN
METHOD:PUBLISH
X-WR-CALNAME:Csepeli Városkép
X-ORIGINAL-URL:https://www.csepelivaroskep.hu
X-WR-CALDESC:Events for Csepeli Városkép
BEGIN:VTIMEZONE
TZID:UTC
BEGIN:STANDARD
TZOFFSETFROM:+0000
TZOFFSETTO:+0000
TZNAME:UTC
DTSTART:20180101T000000
END:STANDARD
END:VTIMEZONE
BEGIN:VEVENT
DTSTART;TZID=UTC:20180108T080000
DTEND;TZID=UTC:20180108T170000
DTSTAMP:20260423T190120
CREATED:20180618T013324Z
LAST-MODIFIED:20180727T175623Z
UID:3989-1515398400-1515430800@www.csepelivaroskep.hu
SUMMARY:Felhívás
DESCRIPTION:Várunk olyan – 2017-es\, saját készítésű – fotókat\, melyek valamilyen\, Önök számára érdekes\, emlékezetes helyszínt\, eseményt jelenítenek meg Csepelről\, csepeliekről. A fénykép témája kötetlen\, lehet akár egy utca-\, vagy épületrészlet\, megkapó természeti jelenség\, tréfás családi-\, vagy munkahelyi fotó – bármi\, ami a kerület életéhez kötődik. A beérkezett anyagokból válogatva 2018. január végén kiállítást rendezünk a Királyerdei Művelődési Ház teázójában.  \nA fotók beérkezésének határideje: 2018. 01. 08. \nAz alkotásoknak címet adva\, valamint névvel\, elérhetőséggel ellátva kérjük azokat beküldeni. A képek elküldhetők nagy felbontásban (2-5 MB-ig) a  kiralyerdeimuvhaz@csepelivaroskep.hu email címre\, vagy átadhatók személyesen – CD-n\, vagy  pendriveon –   a   Királyerdei Művelődési  Házban \n(1213 Budapest\, Szent István út 230).
URL:https://www.csepelivaroskep.hu/programok/felhivas-6/
LOCATION:Királyerdei Művelődési Ház\, Szent István út 230\, Budapest\, 1213\, Magyarország
CATEGORIES:Királyerdei Esemény
ATTACH;FMTTYPE=image/jpeg:https://www.csepelivaroskep.hu/wp-content/uploads/2018/06/2018.01.08-fotofelhivas.jpg
END:VEVENT
END:VCALENDAR