BEGIN:VCALENDAR
VERSION:2.0
PRODID:-//Csepeli Városkép - ECPv5.16.4//NONSGML v1.0//EN
CALSCALE:GREGORIAN
METHOD:PUBLISH
X-WR-CALNAME:Csepeli Városkép
X-ORIGINAL-URL:https://www.csepelivaroskep.hu
X-WR-CALDESC:Events for Csepeli Városkép
BEGIN:VTIMEZONE
TZID:UTC
BEGIN:STANDARD
TZOFFSETFROM:+0000
TZOFFSETTO:+0000
TZNAME:UTC
DTSTART:20140101T000000
END:STANDARD
END:VTIMEZONE
BEGIN:VEVENT
DTSTART;TZID=UTC:20140419T090000
DTEND;TZID=UTC:20140419T120000
DTSTAMP:20260421T172213
CREATED:20180603T205922Z
LAST-MODIFIED:20180731T201833Z
UID:2893-1397898000-1397908800@www.csepelivaroskep.hu
SUMMARY:Föld napja Csillagtelepen
DESCRIPTION:
URL:https://www.csepelivaroskep.hu/programok/fold-napja-csillagtelepen/
LOCATION:Radnóti Miklós Művelődési Ház\, Vénusz utca 2.\, Budapest\, 1214\, Magyarország
CATEGORIES:Radnóti Események
ATTACH;FMTTYPE=image/jpeg:https://www.csepelivaroskep.hu/wp-content/uploads/2018/06/2014.04.19-foldnapja.jpg
END:VEVENT
END:VCALENDAR