BEGIN:VCALENDAR
VERSION:2.0
PRODID:-//Csepeli Városkép - ECPv5.16.4//NONSGML v1.0//EN
CALSCALE:GREGORIAN
METHOD:PUBLISH
X-WR-CALNAME:Csepeli Városkép
X-ORIGINAL-URL:https://www.csepelivaroskep.hu
X-WR-CALDESC:Events for Csepeli Városkép
BEGIN:VTIMEZONE
TZID:UTC
BEGIN:STANDARD
TZOFFSETFROM:+0000
TZOFFSETTO:+0000
TZNAME:UTC
DTSTART:20140101T000000
END:STANDARD
END:VTIMEZONE
BEGIN:VEVENT
DTSTART;TZID=UTC:20140201T080000
DTEND;TZID=UTC:20140201T170000
DTSTAMP:20260421T131257
CREATED:20180526T190802Z
LAST-MODIFIED:20180526T190802Z
UID:2423-1391241600-1391274000@www.csepelivaroskep.hu
SUMMARY:III. Csepeli disznótor
DESCRIPTION:Ha egy igazán hagyományőrző disznóvágásra vágyik\, akkor látogasson el hozzánk a  Sport- Szabadidő és Rendezvényközpontba (1213 Budapest\, Hollandi út 8-10.) február 1-jén 8-17 óra között\, ahol a régi idők hangulatát felidéző\, eszem-iszom vigadalom elevenedik meg! \nÉs\, hogy mi lesz az ínycsiklandó ebéd? \nToroskáposzta\, hurka\, kolbász\, pecsenye\, farsangi fánk\, kürtőskalács \nProgramok:\n8 óra – Érkezés a rossz alvóknak\n8.30 – A disznó pörzsölése\, bontása\, kolbász és hurkatöltés\n9-14 óráig – Kézműves-foglalkozások\n10.30 – Garagulya Gólyalábas Komédiás Kompánia\n11.30 – Mohácsi vigalom busókkal és sokácokkal\n13.30 – Csepeli Mosolygó Dalkör\n14 óra – Kiss Kata Zenekar\n15 óra – NEOTON: Csepregi Éva és Végvári Ádám \nBelépőjegy ára: \nFelnőtteknek:  500 Ft ami beváltható egy pohár forralt borra vagy teára\nGyerekeknek: 14 év alatt a belépés ingyenes
URL:https://www.csepelivaroskep.hu/programok/iii-csepeli-disznotor/
LOCATION:Csepeli Sport- Szabadidő és Rendezvényközpont\, Hollandi út 8\, Budapest\, 1213\, Magyarország
CATEGORIES:Központi esemény
ATTACH;FMTTYPE=image/jpeg:https://www.csepelivaroskep.hu/wp-content/uploads/2018/05/2014.02.01-disznotor.jpg
END:VEVENT
END:VCALENDAR