BEGIN:VCALENDAR
VERSION:2.0
PRODID:-//Csepeli Városkép - ECPv5.16.4//NONSGML v1.0//EN
CALSCALE:GREGORIAN
METHOD:PUBLISH
X-WR-CALNAME:Csepeli Városkép
X-ORIGINAL-URL:https://www.csepelivaroskep.hu
X-WR-CALDESC:Events for Csepeli Városkép
BEGIN:VTIMEZONE
TZID:UTC
BEGIN:STANDARD
TZOFFSETFROM:+0000
TZOFFSETTO:+0000
TZNAME:UTC
DTSTART:20210101T000000
END:STANDARD
END:VTIMEZONE
BEGIN:VEVENT
DTSTART;TZID=UTC:20210510T080000
DTEND;TZID=UTC:20210510T200000
DTSTAMP:20260424T102823
CREATED:20210503T131337Z
LAST-MODIFIED:20210508T050129Z
UID:32858-1620633600-1620676800@www.csepelivaroskep.hu
SUMMARY:Nyitás: május 10.
DESCRIPTION:Kedves Látogatók! \nMűvelődési házunk május 10-én újra megnyitja kapuit! \nA 194/2021.(IV. 26.) Kormányrendelet alapján intézményünket azok látogathatják\, akik rendelkeznek ❗️védettségi igazolvánnyal❗️ \nA plasztikkártyát és az adott személy azonosságát igazoló fényképes igazolványt munkatársaink ellenőrzik belépéskor. \n👧🧒18 év alattiaknak az igazolás nem kötelező\, azonban kísérő csak igazolvánnyal léphet be az intézménybe. \n😷Az előtérben\, mosdókban\, öltözőkben a maszk használat\, illetve belépéskor a kézfertőtlenítő használata továbbra is kötelező! \n🔛A termekben a létszám korlátozott\, kérjük\, tartsák be a védőtávolságot. \nErre az Önök és kollégáink biztonsága érdekében van szükség. \nMegértésüket\, türelmüket köszönjük!
URL:https://www.csepelivaroskep.hu/programok/nyitas-majus-10/
LOCATION:Radnóti Miklós Művelődési Ház\, Vénusz utca 2.\, Budapest\, 1214\, Magyarország
CATEGORIES:Radnóti Események
ATTACH;FMTTYPE=image/png:https://www.csepelivaroskep.hu/wp-content/uploads/2021/05/nyitas-05.10-6e4xqX.tmp_.png
END:VEVENT
END:VCALENDAR