BEGIN:VCALENDAR
VERSION:2.0
PRODID:-//Csepeli Városkép - ECPv5.16.4//NONSGML v1.0//EN
CALSCALE:GREGORIAN
METHOD:PUBLISH
X-WR-CALNAME:Csepeli Városkép
X-ORIGINAL-URL:https://www.csepelivaroskep.hu
X-WR-CALDESC:Events for Csepeli Városkép
BEGIN:VTIMEZONE
TZID:UTC
BEGIN:STANDARD
TZOFFSETFROM:+0000
TZOFFSETTO:+0000
TZNAME:UTC
DTSTART:20220101T000000
END:STANDARD
END:VTIMEZONE
BEGIN:VEVENT
DTSTART;TZID=UTC:20220618T100000
DTEND;TZID=UTC:20220618T123000
DTSTAMP:20260421T231121
CREATED:20220605T083213Z
LAST-MODIFIED:20220618T184440Z
UID:85170-1655546400-1655555400@www.csepelivaroskep.hu
SUMMARY:Séta a múltba – Bunkertúra
DESCRIPTION:Helyszín: Csepeli Vezetési Pont Kiállítóhely (1214 Budapest\, Tejút utca 12.). Találkozó az iskola mögötti kertkapunál \nIdőpont: 2022.06.18\, 10:00 és 11:30 \nA belépés ingyenes\, de regisztrációhoz kötött\, regisztrálni lehet a 278-2757 számon vagy a radnotimuvhaz@csepelivaroskep.hu email címen. \n  \nA LÉTESÍTMÉNY A HIDEGHÁBORÚ IDEJÉN\, AZ 1960-AS ÉVEKBEN – HÁBORÚ VAGY KATASZTRÓFA ESETÉRE –\nA MENTÉSI FELADATOK VEZETÉSI KÖZPONTJAKÉNT ÉPÜLT CSILLAGTELEPEN.\nSAJÁT ÁRAMFEJLESZTŐVEL\, LEVEGŐSZŰRŐVEL\, VÍZNYERŐ-BERENDEZÉSSEL\, IRÁNYÍTÓVAL\,\nLABORRAL ÉS KISZOLGÁLÓ HELYISÉGEKKEL RENDELKEZIK\, MELYEK EREDETI ÁLLAPOTUKBAN MARADTAK FENN.
URL:https://www.csepelivaroskep.hu/programok/seta-a-multba-bunkertura-5/
LOCATION:Csepeli Vezetési Pont Kiállítóhely\, Tejút utca 12.\, Budapest\, 1214\, Magyarország
CATEGORIES:Csepeli Helytörténeti Gyűjtemény Esemény
ATTACH;FMTTYPE=image/jpeg:https://www.csepelivaroskep.hu/wp-content/uploads/2022/06/bunker_A3_setaamultba_2022_1-zu5o2i.tmp_.jpg
END:VEVENT
END:VCALENDAR