BEGIN:VCALENDAR
VERSION:2.0
PRODID:-//Csepeli Városkép - ECPv5.16.4//NONSGML v1.0//EN
CALSCALE:GREGORIAN
METHOD:PUBLISH
X-WR-CALNAME:Csepeli Városkép
X-ORIGINAL-URL:https://www.csepelivaroskep.hu
X-WR-CALDESC:Events for Csepeli Városkép
BEGIN:VTIMEZONE
TZID:UTC
BEGIN:STANDARD
TZOFFSETFROM:+0000
TZOFFSETTO:+0000
TZNAME:UTC
DTSTART:20180101T000000
END:STANDARD
END:VTIMEZONE
BEGIN:VEVENT
DTSTART;TZID=UTC:20180820T100000
DTEND;TZID=UTC:20180820T220000
DTSTAMP:20260424T195017
CREATED:20180819T014030Z
LAST-MODIFIED:20180819T015709Z
UID:5330-1534759200-1534802400@www.csepelivaroskep.hu
SUMMARY:Szent István napja
DESCRIPTION:Kedves csepeliek! \nMindenkit szeretettel várunk augusztus 20-i ünnepségünkre a Daru-dombon!\nHagyományőrző kézműves foglalkozások\, válogatások történelmi rockoperákból\, csikós bemutató\, TNT koncert\, végül tűzijátékkal zárjuk az estét. \n\nA programokon való részvétel ingyenes\, ünnepeljük közösen az államalapítást! A részletes programleírást megtekinthetik a képre kattintva.
URL:https://www.csepelivaroskep.hu/programok/szent-istvan-napja-2/
LOCATION:Daru-domb\, Daru-domb\, Budapest\, 1212\, Magyarország
CATEGORIES:Központi esemény
ATTACH;FMTTYPE=image/jpeg:https://www.csepelivaroskep.hu/wp-content/uploads/2018/08/aug20-1.jpg
END:VEVENT
END:VCALENDAR