BEGIN:VCALENDAR
VERSION:2.0
PRODID:-//Radnóti Miklós Művelődési Ház - ECPv5.16.4//NONSGML v1.0//EN
CALSCALE:GREGORIAN
METHOD:PUBLISH
X-WR-CALNAME:Radnóti Miklós Művelődési Ház
X-ORIGINAL-URL:https://www.csepelivaroskep.hu/radnoti
X-WR-CALDESC:Events for Radnóti Miklós Művelődési Ház
BEGIN:VTIMEZONE
TZID:UTC
BEGIN:STANDARD
TZOFFSETFROM:+0000
TZOFFSETTO:+0000
TZNAME:UTC
DTSTART:20240101T000000
END:STANDARD
END:VTIMEZONE
BEGIN:VEVENT
DTSTART;TZID=UTC:20240622T180000
DTEND;TZID=UTC:20240622T220000
DTSTAMP:20260421T101331
CREATED:20240606T063842Z
LAST-MODIFIED:20240606T063843Z
UID:1896-1719079200-1719093600@www.csepelivaroskep.hu
SUMMARY:Görög táncház
DESCRIPTION:Élőzenés táncoktatás a Csepeli Görög Önkormányzat szervezésében. \nZenél a Mydros együttes \nA belépés díjtalan!
URL:https://www.csepelivaroskep.hu/radnoti/programok/gorog-tanchaz-16/
LOCATION:Radnóti Miklós Művelődési Ház\, Vénusz utca 2.\, Budapest\, 1214\, Magyarország
CATEGORIES:Radnóti Események
ATTACH;FMTTYPE=image/jpeg:https://www.csepelivaroskep.hu/radnoti/wp-content/uploads/sites/2/2024/06/gorog_2023_0622_A3.jpg
END:VEVENT
END:VCALENDAR