BEGIN:VCALENDAR
VERSION:2.0
PRODID:-//Szabó Magda Közösségi Tér - ECPv5.16.4//NONSGML v1.0//EN
CALSCALE:GREGORIAN
METHOD:PUBLISH
X-WR-CALNAME:Szabó Magda Közösségi Tér
X-ORIGINAL-URL:https://www.csepelivaroskep.hu/szabomagda
X-WR-CALDESC:Events for Szabó Magda Közösségi Tér
BEGIN:VTIMEZONE
TZID:UTC
BEGIN:STANDARD
TZOFFSETFROM:+0000
TZOFFSETTO:+0000
TZNAME:UTC
DTSTART:20220101T000000
END:STANDARD
END:VTIMEZONE
BEGIN:VEVENT
DTSTART;TZID=UTC:20221202T163000
DTEND;TZID=UTC:20221202T183000
DTSTAMP:20260425T122118
CREATED:20221123T101339Z
LAST-MODIFIED:20221123T102035Z
UID:1378-1669998600-1670005800@www.csepelivaroskep.hu
SUMMARY:30 éves a Csepeli Hímző Kör
DESCRIPTION:Csepeli Hímző Kör \n  \nAz egykori Csepeli Gyermekház 1992-ben indított kézműves szakkört a népi hímzés és csipkekészítés iránt érdeklődők számára\, melynek vezetője Szuper Miklósné (Judit) népi iparművész lett. Korra és foglalkozásra nézve igen változatos kis csapat verődött össze körülötte. \n  \n1993-ban a Magyar Művelődési Intézet (mai néven Hagyományok Háza) játszóház-vezetői tanfolyamot indított óvodai és iskolai nevelők számára. Mivel a Csepel-szigeten nagy igény mutatkozott a képzés iránt\, Pelyhe Andrásné Editke szervezésében a gyakorlati oktatás itt a kerületben valósult meg. Csipkekészítő és hímző népi mesterségek oktatójaként szintén Szuperné Bohus Judit működött közre. Így a keze alatt tanulók és a szakkör tagjai rövidesen egy alkotói közösségként mutatkozhattak be a Gyermekházban rendezett kiállításon. \n  \nSzakkörvezetőnk elkötelezettsége\, szakmai tudása\, lelkesítő ereje\, s mindnyájunk népi kultúra iránti szeretete eredményezte az első közös munkát. A cserépfalvai szobabelsőt Szuperné Bohus Judit tervezte\, a szakkör tagjai pedig kitartóan hímezték az egyes darabokat. Ezzel az alkotással 1999-ben az XXII. Kisjankó Bori Országos Kiállításon harmadik helyezést értünk el. Ezen a sikeren felbuzdulva azóta számos népművészeti pályázaton indultunk. Munkáink több helyen is kiállításra kerültek már. Budapesten a Vajdahunyad Várban\, a Magyar Nemzeti Galériában\, az Iparművészeti Múzeumban\, a Duna Palotában\, a Várkert Bazárban\, valamint a Magyar Nemzet Múzeumban is volt látható több alkotásunk. Békéscsaba és Mezőkövesd mellett Cegléden\, Veresegyházán\, Százhalombattán\, Paloznakon\, Balatonfüreden\, Alsóörsön\, Magyarpolányban\, Veszprémben is bekerültek munkáink a kiállításokra. A magyarói ciprusos minta feldolgozásával díszített textíliáink pedig egyéb kézműves alkotásokkal együtt 2016-ban Kína két nagyvárosában is bemutatásra kerültek. \n2018-ban a Nemzeti Szalon szervezésében a Műcsarnokban megrendezett „Kéz\, Mű\, Remek” című népművészeti kiállításon több garnitúránk is bemutatásra került. \n  \nA XVII. Élő Népművészet Országos Népművészeti Kiállítás régiós válogatójára 2020-ban Zsámbékon került sor. A Zichy-kastély kiállító tereiben öt alkotással képviseltette magát szakkörünk. A szentistváni\, szamosújvári\, agyagfalvai és bukovinai motívumokkal díszített textíliák pedig továbbjutottak az országos kiállításra is\, melynek 2021 nyarán a megújult Hagyományok Háza adott otthont. \nLegfrissebb eredményeink: 2022 márciusában a Békéscsabai Textilkonferencián a körösladányi fehér hímzéssel készült ünnepi textíliákkal elért I. helyezés; valamint 2022 júliusában a mezőkövesdi Kisjankó Bori Országos Hímzőpályázaton művészeti vezetőnk Kisjankó Bori Nívódíjban\, alkotói közösségünk pedig az erdélyi szász motívumokkal díszített lakástextíliákért Kisjankó Bori Díjban részesült. A szép minták\, tervek megálmodója\, mint mindig\, művészeti vezetőnk\, Szuperné Bohus Judit volt. \nVezetőnk biztatására és irányításával magunk is próbálkozunk a tervezéssel\, melynek sikerességét az egyénileg szerzett „A” és „B” kategóriás minősítések\, illetve a hímzőpályázatokon egyéniben is elért díjak mutatják. \n  \nA Csepeli Gyermekházat már sok éve bezárták\, szakkörvezetőnk Balatonfüredre költözött\, s mi tagok térben is távolabb kerültünk egymástól\, de az alkotás öröme\, a közös érdeklődés és a közösség megtartó ereje mégis időről időre összehoz bennünket. A közös munka minden nehézség ellenére tovább folyik. \n  \nTagok: \nSzuperné Bohus Judit (háromszoros Gránátalma-díjas népi iparművész) – a kör vezetője \nBaranyi Tivadarné (elhunyt 2021 decemberében) \nDevecseri Istvánné (elhunyt 2017. júliusában) \nKertész Erika \nKirály Márta \nSzabó Lajosné \nTóth Mária \nÚj tagunk: Juhász Mária \n  \nÖsszeállította: Tóth Mária \n(szakköri tag) \n  \n  \nEddigi eredményeink \n  \n\n1999: Mezőkövesd\, XXII. Kisjankó Bori Országos Hímzőpályázat – III. helyezés\n2002: Békéscsaba\, VIII. Országos Textiles Konferencia – III. helyezés\n2004: Békéscsaba\, IX. Országos Textiles Konferencia – I. helyezés\n2007: Mezőkövesd\, XXV. Kisjankó Bori Országos Hímzőpályázat – Miskolc Város Különdíja\n2008: Békéscsaba\, XI. Országos Textiles Konferencia – I. helyezés\n2011: Magyar Kézművesség\, a Paloznaki Hímzőkör és a Csepeli Hímzőkör – Csoportos Nagydíj\n2012: Budapest\, Magyar Kézművesség – Fővárosi Önkormányzat Nagydíja\n2012: Békéscsaba\, XIII. Országos Textiles Konferencia – II. helyezés\n2015: Budapest\, Élő Népművészet – XVI. Országos Népművészeti Kiállítás – szakkörünk Arany-oklevél minősítésben részesült.\n2016: Békéscsaba\, XV. Országos Textiles Konferencia – I. helyezés\n2016: Mezőkövesd\, XXVIII. Kisjankó Bori Országos Hímzőpályázat – az Alsóörsi Csipkeműhely és a Csepeli Hímző Kör közös munkájával különdíjban részesült\n2017: Magyar Kézművesség\n2017. szeptember 8. a 25 éves Csepeli Hímző Kör jubileumi kiállítása a Szabó Magda Közösségi Térben\n2017. október 23. alkalmából Budapest XXI. Kerület Csepel Önkormányzata Csepel Örökség díjat adományozott a Csepeli Hímző Körnek\n2018: Békéscsaba\, XVI. Országos Textiles Konferencia – II. helyezés\n2019: Mezőkövesd\, XXIX. Kisjankó Bori Országos Hímzőpályázat – különdíj\n2020: Békéscsaba\, XVII. Országos Textiles Konferencia – I. helyezés\n2021: Élő Népművészet XII. Országos Népművészeti kiállítás – Szuperné Bohus Judit szakkörvezetői munkásságáért Gránátalma-díjban részesült\n2022: Békéscsaba\, XVIII. Országos Textiles Konferencia – I. helyezés\n2022: Mezőkövesd\, XXX. Kisjankó Bori Országos Hímzőpályázat – Szuperné Bohus Judit népművészeti munkásságáért Kisjankó Bori Nívódíjban\, a Csepeli Hímző Kör Kisjankó Bori díjban részesült\n\n  \n 
URL:https://www.csepelivaroskep.hu/szabomagda/programok/30-eves-a-csepeli-himzo-kor/
ATTACH;FMTTYPE=image/jpeg:https://www.csepelivaroskep.hu/szabomagda/wp-content/uploads/sites/4/2022/11/himzo-plakat-2.jpg
END:VEVENT
END:VCALENDAR